BEGIN:VCALENDAR
VERSION:2.0
PRODID:-//St. Luke’s Episcopal Church - ECPv6.15.17.1//NONSGML v1.0//EN
CALSCALE:GREGORIAN
METHOD:PUBLISH
X-WR-CALNAME:St. Luke’s Episcopal Church
X-ORIGINAL-URL:https://stlukeswoodland.org
X-WR-CALDESC:Events for St. Luke’s Episcopal Church
REFRESH-INTERVAL;VALUE=DURATION:PT1H
X-Robots-Tag:noindex
X-PUBLISHED-TTL:PT1H
BEGIN:VTIMEZONE
TZID:America/Los_Angeles
BEGIN:DAYLIGHT
TZOFFSETFROM:-0800
TZOFFSETTO:-0700
TZNAME:PDT
DTSTART:20220313T100000
END:DAYLIGHT
BEGIN:STANDARD
TZOFFSETFROM:-0700
TZOFFSETTO:-0800
TZNAME:PST
DTSTART:20221106T090000
END:STANDARD
BEGIN:DAYLIGHT
TZOFFSETFROM:-0800
TZOFFSETTO:-0700
TZNAME:PDT
DTSTART:20230312T100000
END:DAYLIGHT
BEGIN:STANDARD
TZOFFSETFROM:-0700
TZOFFSETTO:-0800
TZNAME:PST
DTSTART:20231105T090000
END:STANDARD
BEGIN:DAYLIGHT
TZOFFSETFROM:-0800
TZOFFSETTO:-0700
TZNAME:PDT
DTSTART:20240310T100000
END:DAYLIGHT
BEGIN:STANDARD
TZOFFSETFROM:-0700
TZOFFSETTO:-0800
TZNAME:PST
DTSTART:20241103T090000
END:STANDARD
END:VTIMEZONE
BEGIN:VEVENT
DTSTART;TZID=America/Los_Angeles:20230525T090000
DTEND;TZID=America/Los_Angeles:20230525T120000
DTSTAMP:20260419T162301
CREATED:20230523T060352Z
LAST-MODIFIED:20230523T060354Z
UID:10001177-1685005200-1685016000@stlukeswoodland.org
SUMMARY:Woodland Senior Center Resource Fair
DESCRIPTION:St Luke’s will have a booth at the Senior Center’s Resource Fair on May 25th.  This is also part of our “Meet Our Neighbors” project.  We’re looking for a few volunteers who could help be at the booth to hand people materials and to be a warm\, welcoming presence sharing what you love about St. Luke’s!  If interested\, please  \ncontact Alex \n. 
URL:https://stlukeswoodland.org/event/woodland-senior-center-resource-fair/
LOCATION:Woodland Senior Center\, 2001 East St\, Woodland\, CA\, 95776\, United States
CATEGORIES:Featured
ATTACH;FMTTYPE=image/jpeg:https://stlukeswoodland.org/wp-content/uploads/2023/05/event_seniorcenter.jpeg
END:VEVENT
END:VCALENDAR