BEGIN:VCALENDAR
VERSION:2.0
PRODID:-//St. Luke’s Episcopal Church - ECPv6.15.17.1//NONSGML v1.0//EN
CALSCALE:GREGORIAN
METHOD:PUBLISH
X-WR-CALNAME:St. Luke’s Episcopal Church
X-ORIGINAL-URL:https://stlukeswoodland.org
X-WR-CALDESC:Events for St. Luke’s Episcopal Church
REFRESH-INTERVAL;VALUE=DURATION:PT1H
X-Robots-Tag:noindex
X-PUBLISHED-TTL:PT1H
BEGIN:VTIMEZONE
TZID:America/Los_Angeles
BEGIN:DAYLIGHT
TZOFFSETFROM:-0800
TZOFFSETTO:-0700
TZNAME:PDT
DTSTART:20220313T100000
END:DAYLIGHT
BEGIN:STANDARD
TZOFFSETFROM:-0700
TZOFFSETTO:-0800
TZNAME:PST
DTSTART:20221106T090000
END:STANDARD
BEGIN:DAYLIGHT
TZOFFSETFROM:-0800
TZOFFSETTO:-0700
TZNAME:PDT
DTSTART:20230312T100000
END:DAYLIGHT
BEGIN:STANDARD
TZOFFSETFROM:-0700
TZOFFSETTO:-0800
TZNAME:PST
DTSTART:20231105T090000
END:STANDARD
BEGIN:DAYLIGHT
TZOFFSETFROM:-0800
TZOFFSETTO:-0700
TZNAME:PDT
DTSTART:20240310T100000
END:DAYLIGHT
BEGIN:STANDARD
TZOFFSETFROM:-0700
TZOFFSETTO:-0800
TZNAME:PST
DTSTART:20241103T090000
END:STANDARD
END:VTIMEZONE
BEGIN:VEVENT
DTSTART;TZID=America/Los_Angeles:20230703T171500
DTEND;TZID=America/Los_Angeles:20230703T181500
DTSTAMP:20260419T064309
CREATED:20220612T230629Z
LAST-MODIFIED:20230126T051753Z
UID:10000353-1688404500-1688408100@stlukeswoodland.org
SUMMARY:Monday Night Book Study
DESCRIPTION:Book Study meets Mondays at 5:15pm via Zoom. Contact the church office for more information. We are currently reading Jesus Abba: The God Who Has Not Failed\, by John Cobb
URL:https://stlukeswoodland.org/event/book-study/2023-07-03/
END:VEVENT
BEGIN:VEVENT
DTSTART;TZID=America/Los_Angeles:20230705T191500
DTEND;TZID=America/Los_Angeles:20230705T201500
DTSTAMP:20260419T064309
CREATED:20220612T223748Z
LAST-MODIFIED:20230126T051621Z
UID:10000666-1688584500-1688588100@stlukeswoodland.org
SUMMARY:Wednesday Night Book Study
DESCRIPTION:The Wednesday night book study meets at 7:15 pm via Zoom. Contact Beth Robbins or the church office for more information. \nWe are currently reading The Creation Care Bible Challenge. Readings\, reflections and questions are included.
URL:https://stlukeswoodland.org/event/a-journey-with-john-book-study/2023-07-05/
END:VEVENT
BEGIN:VEVENT
DTSTART;TZID=America/Los_Angeles:20230710T171500
DTEND;TZID=America/Los_Angeles:20230710T181500
DTSTAMP:20260419T064309
CREATED:20220612T230629Z
LAST-MODIFIED:20230126T051753Z
UID:10000354-1689009300-1689012900@stlukeswoodland.org
SUMMARY:Monday Night Book Study
DESCRIPTION:Book Study meets Mondays at 5:15pm via Zoom. Contact the church office for more information. We are currently reading Jesus Abba: The God Who Has Not Failed\, by John Cobb
URL:https://stlukeswoodland.org/event/book-study/2023-07-10/
END:VEVENT
BEGIN:VEVENT
DTSTART;TZID=America/Los_Angeles:20230712T191500
DTEND;TZID=America/Los_Angeles:20230712T201500
DTSTAMP:20260419T064309
CREATED:20220612T223748Z
LAST-MODIFIED:20230126T051621Z
UID:10000667-1689189300-1689192900@stlukeswoodland.org
SUMMARY:Wednesday Night Book Study
DESCRIPTION:The Wednesday night book study meets at 7:15 pm via Zoom. Contact Beth Robbins or the church office for more information. \nWe are currently reading The Creation Care Bible Challenge. Readings\, reflections and questions are included.
URL:https://stlukeswoodland.org/event/a-journey-with-john-book-study/2023-07-12/
END:VEVENT
BEGIN:VEVENT
DTSTART;TZID=America/Los_Angeles:20230717T171500
DTEND;TZID=America/Los_Angeles:20230717T181500
DTSTAMP:20260419T064309
CREATED:20220612T230629Z
LAST-MODIFIED:20230126T051753Z
UID:10000355-1689614100-1689617700@stlukeswoodland.org
SUMMARY:Monday Night Book Study
DESCRIPTION:Book Study meets Mondays at 5:15pm via Zoom. Contact the church office for more information. We are currently reading Jesus Abba: The God Who Has Not Failed\, by John Cobb
URL:https://stlukeswoodland.org/event/book-study/2023-07-17/
END:VEVENT
BEGIN:VEVENT
DTSTART;TZID=America/Los_Angeles:20230719T191500
DTEND;TZID=America/Los_Angeles:20230719T201500
DTSTAMP:20260419T064309
CREATED:20220612T223748Z
LAST-MODIFIED:20230126T051621Z
UID:10000668-1689794100-1689797700@stlukeswoodland.org
SUMMARY:Wednesday Night Book Study
DESCRIPTION:The Wednesday night book study meets at 7:15 pm via Zoom. Contact Beth Robbins or the church office for more information. \nWe are currently reading The Creation Care Bible Challenge. Readings\, reflections and questions are included.
URL:https://stlukeswoodland.org/event/a-journey-with-john-book-study/2023-07-19/
END:VEVENT
BEGIN:VEVENT
DTSTART;TZID=America/Los_Angeles:20230724T171500
DTEND;TZID=America/Los_Angeles:20230724T181500
DTSTAMP:20260419T064309
CREATED:20220612T230629Z
LAST-MODIFIED:20230126T051753Z
UID:10000356-1690218900-1690222500@stlukeswoodland.org
SUMMARY:Monday Night Book Study
DESCRIPTION:Book Study meets Mondays at 5:15pm via Zoom. Contact the church office for more information. We are currently reading Jesus Abba: The God Who Has Not Failed\, by John Cobb
URL:https://stlukeswoodland.org/event/book-study/2023-07-24/
END:VEVENT
BEGIN:VEVENT
DTSTART;TZID=America/Los_Angeles:20230726T191500
DTEND;TZID=America/Los_Angeles:20230726T201500
DTSTAMP:20260419T064309
CREATED:20220612T223748Z
LAST-MODIFIED:20230126T051621Z
UID:10000669-1690398900-1690402500@stlukeswoodland.org
SUMMARY:Wednesday Night Book Study
DESCRIPTION:The Wednesday night book study meets at 7:15 pm via Zoom. Contact Beth Robbins or the church office for more information. \nWe are currently reading The Creation Care Bible Challenge. Readings\, reflections and questions are included.
URL:https://stlukeswoodland.org/event/a-journey-with-john-book-study/2023-07-26/
END:VEVENT
BEGIN:VEVENT
DTSTART;TZID=America/Los_Angeles:20230731T171500
DTEND;TZID=America/Los_Angeles:20230731T181500
DTSTAMP:20260419T064309
CREATED:20220612T230629Z
LAST-MODIFIED:20230126T051753Z
UID:10000357-1690823700-1690827300@stlukeswoodland.org
SUMMARY:Monday Night Book Study
DESCRIPTION:Book Study meets Mondays at 5:15pm via Zoom. Contact the church office for more information. We are currently reading Jesus Abba: The God Who Has Not Failed\, by John Cobb
URL:https://stlukeswoodland.org/event/book-study/2023-07-31/
END:VEVENT
END:VCALENDAR