BEGIN:VCALENDAR
VERSION:2.0
PRODID:-//St. Luke’s Episcopal Church - ECPv6.15.17.1//NONSGML v1.0//EN
CALSCALE:GREGORIAN
METHOD:PUBLISH
X-ORIGINAL-URL:https://stlukeswoodland.org
X-WR-CALDESC:Events for St. Luke’s Episcopal Church
REFRESH-INTERVAL;VALUE=DURATION:PT1H
X-Robots-Tag:noindex
X-PUBLISHED-TTL:PT1H
BEGIN:VTIMEZONE
TZID:America/Los_Angeles
BEGIN:DAYLIGHT
TZOFFSETFROM:-0800
TZOFFSETTO:-0700
TZNAME:PDT
DTSTART:20220313T100000
END:DAYLIGHT
BEGIN:STANDARD
TZOFFSETFROM:-0700
TZOFFSETTO:-0800
TZNAME:PST
DTSTART:20221106T090000
END:STANDARD
BEGIN:DAYLIGHT
TZOFFSETFROM:-0800
TZOFFSETTO:-0700
TZNAME:PDT
DTSTART:20230312T100000
END:DAYLIGHT
BEGIN:STANDARD
TZOFFSETFROM:-0700
TZOFFSETTO:-0800
TZNAME:PST
DTSTART:20231105T090000
END:STANDARD
BEGIN:DAYLIGHT
TZOFFSETFROM:-0800
TZOFFSETTO:-0700
TZNAME:PDT
DTSTART:20240310T100000
END:DAYLIGHT
BEGIN:STANDARD
TZOFFSETFROM:-0700
TZOFFSETTO:-0800
TZNAME:PST
DTSTART:20241103T090000
END:STANDARD
END:VTIMEZONE
BEGIN:VEVENT
DTSTART;TZID=America/Los_Angeles:20230605T171500
DTEND;TZID=America/Los_Angeles:20230605T181500
DTSTAMP:20260419T080358
CREATED:20220612T230629Z
LAST-MODIFIED:20230126T051753Z
UID:10000349-1685985300-1685988900@stlukeswoodland.org
SUMMARY:Monday Night Book Study
DESCRIPTION:Book Study meets Mondays at 5:15pm via Zoom. Contact the church office for more information. We are currently reading Jesus Abba: The God Who Has Not Failed\, by John Cobb
URL:https://stlukeswoodland.org/event/book-study/2023-06-05/
END:VEVENT
BEGIN:VEVENT
DTSTART;TZID=America/Los_Angeles:20230607T191500
DTEND;TZID=America/Los_Angeles:20230607T201500
DTSTAMP:20260419T080358
CREATED:20220612T223748Z
LAST-MODIFIED:20230126T051621Z
UID:10000662-1686165300-1686168900@stlukeswoodland.org
SUMMARY:Wednesday Night Book Study
DESCRIPTION:The Wednesday night book study meets at 7:15 pm via Zoom. Contact Beth Robbins or the church office for more information. \nWe are currently reading The Creation Care Bible Challenge. Readings\, reflections and questions are included.
URL:https://stlukeswoodland.org/event/a-journey-with-john-book-study/2023-06-07/
END:VEVENT
BEGIN:VEVENT
DTSTART;TZID=America/Los_Angeles:20230612T171500
DTEND;TZID=America/Los_Angeles:20230612T181500
DTSTAMP:20260419T080358
CREATED:20220612T230629Z
LAST-MODIFIED:20230126T051753Z
UID:10000350-1686590100-1686593700@stlukeswoodland.org
SUMMARY:Monday Night Book Study
DESCRIPTION:Book Study meets Mondays at 5:15pm via Zoom. Contact the church office for more information. We are currently reading Jesus Abba: The God Who Has Not Failed\, by John Cobb
URL:https://stlukeswoodland.org/event/book-study/2023-06-12/
END:VEVENT
BEGIN:VEVENT
DTSTART;TZID=America/Los_Angeles:20230614T191500
DTEND;TZID=America/Los_Angeles:20230614T201500
DTSTAMP:20260419T080358
CREATED:20220612T223748Z
LAST-MODIFIED:20230126T051621Z
UID:10000663-1686770100-1686773700@stlukeswoodland.org
SUMMARY:Wednesday Night Book Study
DESCRIPTION:The Wednesday night book study meets at 7:15 pm via Zoom. Contact Beth Robbins or the church office for more information. \nWe are currently reading The Creation Care Bible Challenge. Readings\, reflections and questions are included.
URL:https://stlukeswoodland.org/event/a-journey-with-john-book-study/2023-06-14/
END:VEVENT
BEGIN:VEVENT
DTSTART;TZID=America/Los_Angeles:20230619T171500
DTEND;TZID=America/Los_Angeles:20230619T181500
DTSTAMP:20260419T080358
CREATED:20220612T230629Z
LAST-MODIFIED:20230126T051753Z
UID:10000351-1687194900-1687198500@stlukeswoodland.org
SUMMARY:Monday Night Book Study
DESCRIPTION:Book Study meets Mondays at 5:15pm via Zoom. Contact the church office for more information. We are currently reading Jesus Abba: The God Who Has Not Failed\, by John Cobb
URL:https://stlukeswoodland.org/event/book-study/2023-06-19/
END:VEVENT
BEGIN:VEVENT
DTSTART;TZID=America/Los_Angeles:20230621T191500
DTEND;TZID=America/Los_Angeles:20230621T201500
DTSTAMP:20260419T080358
CREATED:20220612T223748Z
LAST-MODIFIED:20230126T051621Z
UID:10000664-1687374900-1687378500@stlukeswoodland.org
SUMMARY:Wednesday Night Book Study
DESCRIPTION:The Wednesday night book study meets at 7:15 pm via Zoom. Contact Beth Robbins or the church office for more information. \nWe are currently reading The Creation Care Bible Challenge. Readings\, reflections and questions are included.
URL:https://stlukeswoodland.org/event/a-journey-with-john-book-study/2023-06-21/
END:VEVENT
BEGIN:VEVENT
DTSTART;TZID=America/Los_Angeles:20230626T171500
DTEND;TZID=America/Los_Angeles:20230626T181500
DTSTAMP:20260419T080358
CREATED:20220612T230629Z
LAST-MODIFIED:20230126T051753Z
UID:10000352-1687799700-1687803300@stlukeswoodland.org
SUMMARY:Monday Night Book Study
DESCRIPTION:Book Study meets Mondays at 5:15pm via Zoom. Contact the church office for more information. We are currently reading Jesus Abba: The God Who Has Not Failed\, by John Cobb
URL:https://stlukeswoodland.org/event/book-study/2023-06-26/
END:VEVENT
BEGIN:VEVENT
DTSTART;TZID=America/Los_Angeles:20230628T191500
DTEND;TZID=America/Los_Angeles:20230628T201500
DTSTAMP:20260419T080358
CREATED:20220612T223748Z
LAST-MODIFIED:20230126T051621Z
UID:10000665-1687979700-1687983300@stlukeswoodland.org
SUMMARY:Wednesday Night Book Study
DESCRIPTION:The Wednesday night book study meets at 7:15 pm via Zoom. Contact Beth Robbins or the church office for more information. \nWe are currently reading The Creation Care Bible Challenge. Readings\, reflections and questions are included.
URL:https://stlukeswoodland.org/event/a-journey-with-john-book-study/2023-06-28/
END:VEVENT
END:VCALENDAR