BEGIN:VCALENDAR
VERSION:2.0
PRODID:-//St. Luke’s Episcopal Church - ECPv6.15.17.1//NONSGML v1.0//EN
CALSCALE:GREGORIAN
METHOD:PUBLISH
X-ORIGINAL-URL:https://stlukeswoodland.org
X-WR-CALDESC:Events for St. Luke’s Episcopal Church
REFRESH-INTERVAL;VALUE=DURATION:PT1H
X-Robots-Tag:noindex
X-PUBLISHED-TTL:PT1H
BEGIN:VTIMEZONE
TZID:America/Los_Angeles
BEGIN:DAYLIGHT
TZOFFSETFROM:-0800
TZOFFSETTO:-0700
TZNAME:PDT
DTSTART:20220313T100000
END:DAYLIGHT
BEGIN:STANDARD
TZOFFSETFROM:-0700
TZOFFSETTO:-0800
TZNAME:PST
DTSTART:20221106T090000
END:STANDARD
BEGIN:DAYLIGHT
TZOFFSETFROM:-0800
TZOFFSETTO:-0700
TZNAME:PDT
DTSTART:20230312T100000
END:DAYLIGHT
BEGIN:STANDARD
TZOFFSETFROM:-0700
TZOFFSETTO:-0800
TZNAME:PST
DTSTART:20231105T090000
END:STANDARD
BEGIN:DAYLIGHT
TZOFFSETFROM:-0800
TZOFFSETTO:-0700
TZNAME:PDT
DTSTART:20240310T100000
END:DAYLIGHT
BEGIN:STANDARD
TZOFFSETFROM:-0700
TZOFFSETTO:-0800
TZNAME:PST
DTSTART:20241103T090000
END:STANDARD
END:VTIMEZONE
BEGIN:VEVENT
DTSTART;TZID=America/Los_Angeles:20230501T171500
DTEND;TZID=America/Los_Angeles:20230501T181500
DTSTAMP:20260419T100102
CREATED:20220612T230629Z
LAST-MODIFIED:20230126T051753Z
UID:10000344-1682961300-1682964900@stlukeswoodland.org
SUMMARY:Monday Night Book Study
DESCRIPTION:Book Study meets Mondays at 5:15pm via Zoom. Contact the church office for more information. We are currently reading Jesus Abba: The God Who Has Not Failed\, by John Cobb
URL:https://stlukeswoodland.org/event/book-study/2023-05-01/
END:VEVENT
BEGIN:VEVENT
DTSTART;TZID=America/Los_Angeles:20230503T191500
DTEND;TZID=America/Los_Angeles:20230503T201500
DTSTAMP:20260419T100102
CREATED:20220612T223748Z
LAST-MODIFIED:20230126T051621Z
UID:10000657-1683141300-1683144900@stlukeswoodland.org
SUMMARY:Wednesday Night Book Study
DESCRIPTION:The Wednesday night book study meets at 7:15 pm via Zoom. Contact Beth Robbins or the church office for more information. \nWe are currently reading The Creation Care Bible Challenge. Readings\, reflections and questions are included.
URL:https://stlukeswoodland.org/event/a-journey-with-john-book-study/2023-05-03/
END:VEVENT
BEGIN:VEVENT
DTSTART;TZID=America/Los_Angeles:20230508T171500
DTEND;TZID=America/Los_Angeles:20230508T181500
DTSTAMP:20260419T100102
CREATED:20220612T230629Z
LAST-MODIFIED:20230126T051753Z
UID:10000345-1683566100-1683569700@stlukeswoodland.org
SUMMARY:Monday Night Book Study
DESCRIPTION:Book Study meets Mondays at 5:15pm via Zoom. Contact the church office for more information. We are currently reading Jesus Abba: The God Who Has Not Failed\, by John Cobb
URL:https://stlukeswoodland.org/event/book-study/2023-05-08/
END:VEVENT
BEGIN:VEVENT
DTSTART;TZID=America/Los_Angeles:20230510T191500
DTEND;TZID=America/Los_Angeles:20230510T201500
DTSTAMP:20260419T100102
CREATED:20220612T223748Z
LAST-MODIFIED:20230126T051621Z
UID:10000658-1683746100-1683749700@stlukeswoodland.org
SUMMARY:Wednesday Night Book Study
DESCRIPTION:The Wednesday night book study meets at 7:15 pm via Zoom. Contact Beth Robbins or the church office for more information. \nWe are currently reading The Creation Care Bible Challenge. Readings\, reflections and questions are included.
URL:https://stlukeswoodland.org/event/a-journey-with-john-book-study/2023-05-10/
END:VEVENT
BEGIN:VEVENT
DTSTART;TZID=America/Los_Angeles:20230515T171500
DTEND;TZID=America/Los_Angeles:20230515T181500
DTSTAMP:20260419T100102
CREATED:20220612T230629Z
LAST-MODIFIED:20230126T051753Z
UID:10000346-1684170900-1684174500@stlukeswoodland.org
SUMMARY:Monday Night Book Study
DESCRIPTION:Book Study meets Mondays at 5:15pm via Zoom. Contact the church office for more information. We are currently reading Jesus Abba: The God Who Has Not Failed\, by John Cobb
URL:https://stlukeswoodland.org/event/book-study/2023-05-15/
END:VEVENT
BEGIN:VEVENT
DTSTART;TZID=America/Los_Angeles:20230517T191500
DTEND;TZID=America/Los_Angeles:20230517T201500
DTSTAMP:20260419T100102
CREATED:20220612T223748Z
LAST-MODIFIED:20230126T051621Z
UID:10000659-1684350900-1684354500@stlukeswoodland.org
SUMMARY:Wednesday Night Book Study
DESCRIPTION:The Wednesday night book study meets at 7:15 pm via Zoom. Contact Beth Robbins or the church office for more information. \nWe are currently reading The Creation Care Bible Challenge. Readings\, reflections and questions are included.
URL:https://stlukeswoodland.org/event/a-journey-with-john-book-study/2023-05-17/
END:VEVENT
BEGIN:VEVENT
DTSTART;TZID=America/Los_Angeles:20230522T171500
DTEND;TZID=America/Los_Angeles:20230522T181500
DTSTAMP:20260419T100102
CREATED:20220612T230629Z
LAST-MODIFIED:20230126T051753Z
UID:10000347-1684775700-1684779300@stlukeswoodland.org
SUMMARY:Monday Night Book Study
DESCRIPTION:Book Study meets Mondays at 5:15pm via Zoom. Contact the church office for more information. We are currently reading Jesus Abba: The God Who Has Not Failed\, by John Cobb
URL:https://stlukeswoodland.org/event/book-study/2023-05-22/
END:VEVENT
BEGIN:VEVENT
DTSTART;TZID=America/Los_Angeles:20230524T191500
DTEND;TZID=America/Los_Angeles:20230524T201500
DTSTAMP:20260419T100102
CREATED:20220612T223748Z
LAST-MODIFIED:20230126T051621Z
UID:10000660-1684955700-1684959300@stlukeswoodland.org
SUMMARY:Wednesday Night Book Study
DESCRIPTION:The Wednesday night book study meets at 7:15 pm via Zoom. Contact Beth Robbins or the church office for more information. \nWe are currently reading The Creation Care Bible Challenge. Readings\, reflections and questions are included.
URL:https://stlukeswoodland.org/event/a-journey-with-john-book-study/2023-05-24/
END:VEVENT
BEGIN:VEVENT
DTSTART;TZID=America/Los_Angeles:20230529T171500
DTEND;TZID=America/Los_Angeles:20230529T181500
DTSTAMP:20260419T100102
CREATED:20220612T230629Z
LAST-MODIFIED:20230126T051753Z
UID:10000348-1685380500-1685384100@stlukeswoodland.org
SUMMARY:Monday Night Book Study
DESCRIPTION:Book Study meets Mondays at 5:15pm via Zoom. Contact the church office for more information. We are currently reading Jesus Abba: The God Who Has Not Failed\, by John Cobb
URL:https://stlukeswoodland.org/event/book-study/2023-05-29/
END:VEVENT
BEGIN:VEVENT
DTSTART;TZID=America/Los_Angeles:20230531T191500
DTEND;TZID=America/Los_Angeles:20230531T201500
DTSTAMP:20260419T100102
CREATED:20220612T223748Z
LAST-MODIFIED:20230126T051621Z
UID:10000661-1685560500-1685564100@stlukeswoodland.org
SUMMARY:Wednesday Night Book Study
DESCRIPTION:The Wednesday night book study meets at 7:15 pm via Zoom. Contact Beth Robbins or the church office for more information. \nWe are currently reading The Creation Care Bible Challenge. Readings\, reflections and questions are included.
URL:https://stlukeswoodland.org/event/a-journey-with-john-book-study/2023-05-31/
END:VEVENT
END:VCALENDAR