BEGIN:VCALENDAR
VERSION:2.0
PRODID:-//St. Luke’s Episcopal Church - ECPv6.15.17.1//NONSGML v1.0//EN
CALSCALE:GREGORIAN
METHOD:PUBLISH
X-WR-CALNAME:St. Luke’s Episcopal Church
X-ORIGINAL-URL:https://stlukeswoodland.org
X-WR-CALDESC:Events for St. Luke’s Episcopal Church
REFRESH-INTERVAL;VALUE=DURATION:PT1H
X-Robots-Tag:noindex
X-PUBLISHED-TTL:PT1H
BEGIN:VTIMEZONE
TZID:America/Los_Angeles
BEGIN:DAYLIGHT
TZOFFSETFROM:-0800
TZOFFSETTO:-0700
TZNAME:PDT
DTSTART:20210314T100000
END:DAYLIGHT
BEGIN:STANDARD
TZOFFSETFROM:-0700
TZOFFSETTO:-0800
TZNAME:PST
DTSTART:20211107T090000
END:STANDARD
BEGIN:DAYLIGHT
TZOFFSETFROM:-0800
TZOFFSETTO:-0700
TZNAME:PDT
DTSTART:20220313T100000
END:DAYLIGHT
BEGIN:STANDARD
TZOFFSETFROM:-0700
TZOFFSETTO:-0800
TZNAME:PST
DTSTART:20221106T090000
END:STANDARD
BEGIN:DAYLIGHT
TZOFFSETFROM:-0800
TZOFFSETTO:-0700
TZNAME:PDT
DTSTART:20230312T100000
END:DAYLIGHT
BEGIN:STANDARD
TZOFFSETFROM:-0700
TZOFFSETTO:-0800
TZNAME:PST
DTSTART:20231105T090000
END:STANDARD
END:VTIMEZONE
BEGIN:VEVENT
DTSTART;TZID=America/Los_Angeles:20221102T191500
DTEND;TZID=America/Los_Angeles:20221102T201500
DTSTAMP:20260419T192954
CREATED:20220612T223748Z
LAST-MODIFIED:20230126T051621Z
UID:10000204-1667416500-1667420100@stlukeswoodland.org
SUMMARY:Wednesday Night Book Study
DESCRIPTION:The Wednesday night book study meets at 7:15 pm via Zoom. Contact Beth Robbins or the church office for more information. \nWe are currently reading The Creation Care Bible Challenge. Readings\, reflections and questions are included.
URL:https://stlukeswoodland.org/event/a-journey-with-john-book-study/2022-11-02/
END:VEVENT
BEGIN:VEVENT
DTSTART;TZID=America/Los_Angeles:20221107T171500
DTEND;TZID=America/Los_Angeles:20221107T181500
DTSTAMP:20260419T192954
CREATED:20220612T230629Z
LAST-MODIFIED:20230126T051753Z
UID:10000265-1667841300-1667844900@stlukeswoodland.org
SUMMARY:Monday Night Book Study
DESCRIPTION:Book Study meets Mondays at 5:15pm via Zoom. Contact the church office for more information. We are currently reading Jesus Abba: The God Who Has Not Failed\, by John Cobb
URL:https://stlukeswoodland.org/event/book-study/2022-11-07/
END:VEVENT
BEGIN:VEVENT
DTSTART;TZID=America/Los_Angeles:20221109T191500
DTEND;TZID=America/Los_Angeles:20221109T201500
DTSTAMP:20260419T192954
CREATED:20220612T223748Z
LAST-MODIFIED:20230126T051621Z
UID:10000205-1668021300-1668024900@stlukeswoodland.org
SUMMARY:Wednesday Night Book Study
DESCRIPTION:The Wednesday night book study meets at 7:15 pm via Zoom. Contact Beth Robbins or the church office for more information. \nWe are currently reading The Creation Care Bible Challenge. Readings\, reflections and questions are included.
URL:https://stlukeswoodland.org/event/a-journey-with-john-book-study/2022-11-09/
END:VEVENT
BEGIN:VEVENT
DTSTART;TZID=America/Los_Angeles:20221114T171500
DTEND;TZID=America/Los_Angeles:20221114T181500
DTSTAMP:20260419T192954
CREATED:20220612T230629Z
LAST-MODIFIED:20230126T051753Z
UID:10000266-1668446100-1668449700@stlukeswoodland.org
SUMMARY:Monday Night Book Study
DESCRIPTION:Book Study meets Mondays at 5:15pm via Zoom. Contact the church office for more information. We are currently reading Jesus Abba: The God Who Has Not Failed\, by John Cobb
URL:https://stlukeswoodland.org/event/book-study/2022-11-14/
END:VEVENT
BEGIN:VEVENT
DTSTART;TZID=America/Los_Angeles:20221116T191500
DTEND;TZID=America/Los_Angeles:20221116T201500
DTSTAMP:20260419T192954
CREATED:20220612T223748Z
LAST-MODIFIED:20230126T051621Z
UID:10000206-1668626100-1668629700@stlukeswoodland.org
SUMMARY:Wednesday Night Book Study
DESCRIPTION:The Wednesday night book study meets at 7:15 pm via Zoom. Contact Beth Robbins or the church office for more information. \nWe are currently reading The Creation Care Bible Challenge. Readings\, reflections and questions are included.
URL:https://stlukeswoodland.org/event/a-journey-with-john-book-study/2022-11-16/
END:VEVENT
BEGIN:VEVENT
DTSTART;TZID=America/Los_Angeles:20221121T171500
DTEND;TZID=America/Los_Angeles:20221121T181500
DTSTAMP:20260419T192954
CREATED:20220612T230629Z
LAST-MODIFIED:20230126T051753Z
UID:10000267-1669050900-1669054500@stlukeswoodland.org
SUMMARY:Monday Night Book Study
DESCRIPTION:Book Study meets Mondays at 5:15pm via Zoom. Contact the church office for more information. We are currently reading Jesus Abba: The God Who Has Not Failed\, by John Cobb
URL:https://stlukeswoodland.org/event/book-study/2022-11-21/
END:VEVENT
BEGIN:VEVENT
DTSTART;TZID=America/Los_Angeles:20221123T191500
DTEND;TZID=America/Los_Angeles:20221123T201500
DTSTAMP:20260419T192954
CREATED:20220612T223748Z
LAST-MODIFIED:20230126T051621Z
UID:10000207-1669230900-1669234500@stlukeswoodland.org
SUMMARY:Wednesday Night Book Study
DESCRIPTION:The Wednesday night book study meets at 7:15 pm via Zoom. Contact Beth Robbins or the church office for more information. \nWe are currently reading The Creation Care Bible Challenge. Readings\, reflections and questions are included.
URL:https://stlukeswoodland.org/event/a-journey-with-john-book-study/2022-11-23/
END:VEVENT
BEGIN:VEVENT
DTSTART;TZID=America/Los_Angeles:20221128T171500
DTEND;TZID=America/Los_Angeles:20221128T181500
DTSTAMP:20260419T192954
CREATED:20220612T230629Z
LAST-MODIFIED:20230126T051753Z
UID:10000268-1669655700-1669659300@stlukeswoodland.org
SUMMARY:Monday Night Book Study
DESCRIPTION:Book Study meets Mondays at 5:15pm via Zoom. Contact the church office for more information. We are currently reading Jesus Abba: The God Who Has Not Failed\, by John Cobb
URL:https://stlukeswoodland.org/event/book-study/2022-11-28/
END:VEVENT
BEGIN:VEVENT
DTSTART;TZID=America/Los_Angeles:20221130T191500
DTEND;TZID=America/Los_Angeles:20221130T201500
DTSTAMP:20260419T192954
CREATED:20220612T223748Z
LAST-MODIFIED:20230126T051621Z
UID:10000208-1669835700-1669839300@stlukeswoodland.org
SUMMARY:Wednesday Night Book Study
DESCRIPTION:The Wednesday night book study meets at 7:15 pm via Zoom. Contact Beth Robbins or the church office for more information. \nWe are currently reading The Creation Care Bible Challenge. Readings\, reflections and questions are included.
URL:https://stlukeswoodland.org/event/a-journey-with-john-book-study/2022-11-30/
END:VEVENT
END:VCALENDAR