BEGIN:VCALENDAR
VERSION:2.0
PRODID:-//St. Luke’s Episcopal Church - ECPv6.15.17.1//NONSGML v1.0//EN
CALSCALE:GREGORIAN
METHOD:PUBLISH
X-ORIGINAL-URL:https://stlukeswoodland.org
X-WR-CALDESC:Events for St. Luke’s Episcopal Church
REFRESH-INTERVAL;VALUE=DURATION:PT1H
X-Robots-Tag:noindex
X-PUBLISHED-TTL:PT1H
BEGIN:VTIMEZONE
TZID:America/Los_Angeles
BEGIN:DAYLIGHT
TZOFFSETFROM:-0800
TZOFFSETTO:-0700
TZNAME:PDT
DTSTART:20210314T100000
END:DAYLIGHT
BEGIN:STANDARD
TZOFFSETFROM:-0700
TZOFFSETTO:-0800
TZNAME:PST
DTSTART:20211107T090000
END:STANDARD
BEGIN:DAYLIGHT
TZOFFSETFROM:-0800
TZOFFSETTO:-0700
TZNAME:PDT
DTSTART:20220313T100000
END:DAYLIGHT
BEGIN:STANDARD
TZOFFSETFROM:-0700
TZOFFSETTO:-0800
TZNAME:PST
DTSTART:20221106T090000
END:STANDARD
BEGIN:DAYLIGHT
TZOFFSETFROM:-0800
TZOFFSETTO:-0700
TZNAME:PDT
DTSTART:20230312T100000
END:DAYLIGHT
BEGIN:STANDARD
TZOFFSETFROM:-0700
TZOFFSETTO:-0800
TZNAME:PST
DTSTART:20231105T090000
END:STANDARD
END:VTIMEZONE
BEGIN:VEVENT
DTSTART;TZID=America/Los_Angeles:20220613T171500
DTEND;TZID=America/Los_Angeles:20220613T181500
DTSTAMP:20260420T044118
CREATED:20220612T230629Z
LAST-MODIFIED:20230126T051753Z
UID:10000244-1655140500-1655144100@stlukeswoodland.org
SUMMARY:Monday Night Book Study
DESCRIPTION:Book Study meets Mondays at 5:15pm via Zoom. Contact the church office for more information. We are currently reading Jesus Abba: The God Who Has Not Failed\, by John Cobb
URL:https://stlukeswoodland.org/event/book-study/2022-06-13/
END:VEVENT
BEGIN:VEVENT
DTSTART;TZID=America/Los_Angeles:20220615T191500
DTEND;TZID=America/Los_Angeles:20220615T201500
DTSTAMP:20260420T044118
CREATED:20220612T223748Z
LAST-MODIFIED:20230126T051621Z
UID:10000184-1655320500-1655324100@stlukeswoodland.org
SUMMARY:Wednesday Night Book Study
DESCRIPTION:The Wednesday night book study meets at 7:15 pm via Zoom. Contact Beth Robbins or the church office for more information. \nWe are currently reading The Creation Care Bible Challenge. Readings\, reflections and questions are included.
URL:https://stlukeswoodland.org/event/a-journey-with-john-book-study/2022-06-15/
END:VEVENT
BEGIN:VEVENT
DTSTART;TZID=America/Los_Angeles:20220620T171500
DTEND;TZID=America/Los_Angeles:20220620T181500
DTSTAMP:20260420T044118
CREATED:20220612T230629Z
LAST-MODIFIED:20230126T051753Z
UID:10000245-1655745300-1655748900@stlukeswoodland.org
SUMMARY:Monday Night Book Study
DESCRIPTION:Book Study meets Mondays at 5:15pm via Zoom. Contact the church office for more information. We are currently reading Jesus Abba: The God Who Has Not Failed\, by John Cobb
URL:https://stlukeswoodland.org/event/book-study/2022-06-20/
END:VEVENT
BEGIN:VEVENT
DTSTART;TZID=America/Los_Angeles:20220622T191500
DTEND;TZID=America/Los_Angeles:20220622T201500
DTSTAMP:20260420T044118
CREATED:20220612T223748Z
LAST-MODIFIED:20230126T051621Z
UID:10000185-1655925300-1655928900@stlukeswoodland.org
SUMMARY:Wednesday Night Book Study
DESCRIPTION:The Wednesday night book study meets at 7:15 pm via Zoom. Contact Beth Robbins or the church office for more information. \nWe are currently reading The Creation Care Bible Challenge. Readings\, reflections and questions are included.
URL:https://stlukeswoodland.org/event/a-journey-with-john-book-study/2022-06-22/
END:VEVENT
BEGIN:VEVENT
DTSTART;TZID=America/Los_Angeles:20220627T171500
DTEND;TZID=America/Los_Angeles:20220627T181500
DTSTAMP:20260420T044118
CREATED:20220612T230629Z
LAST-MODIFIED:20230126T051753Z
UID:10000246-1656350100-1656353700@stlukeswoodland.org
SUMMARY:Monday Night Book Study
DESCRIPTION:Book Study meets Mondays at 5:15pm via Zoom. Contact the church office for more information. We are currently reading Jesus Abba: The God Who Has Not Failed\, by John Cobb
URL:https://stlukeswoodland.org/event/book-study/2022-06-27/
END:VEVENT
BEGIN:VEVENT
DTSTART;TZID=America/Los_Angeles:20220629T191500
DTEND;TZID=America/Los_Angeles:20220629T201500
DTSTAMP:20260420T044118
CREATED:20220612T223748Z
LAST-MODIFIED:20230126T051621Z
UID:10000186-1656530100-1656533700@stlukeswoodland.org
SUMMARY:Wednesday Night Book Study
DESCRIPTION:The Wednesday night book study meets at 7:15 pm via Zoom. Contact Beth Robbins or the church office for more information. \nWe are currently reading The Creation Care Bible Challenge. Readings\, reflections and questions are included.
URL:https://stlukeswoodland.org/event/a-journey-with-john-book-study/2022-06-29/
END:VEVENT
END:VCALENDAR