BEGIN:VCALENDAR
VERSION:2.0
PRODID:-//St. Luke’s Episcopal Church - ECPv6.15.17.1//NONSGML v1.0//EN
CALSCALE:GREGORIAN
METHOD:PUBLISH
X-WR-CALNAME:St. Luke’s Episcopal Church
X-ORIGINAL-URL:https://stlukeswoodland.org
X-WR-CALDESC:Events for St. Luke’s Episcopal Church
REFRESH-INTERVAL;VALUE=DURATION:PT1H
X-Robots-Tag:noindex
X-PUBLISHED-TTL:PT1H
BEGIN:VTIMEZONE
TZID:America/Los_Angeles
BEGIN:DAYLIGHT
TZOFFSETFROM:-0800
TZOFFSETTO:-0700
TZNAME:PDT
DTSTART:20240310T100000
END:DAYLIGHT
BEGIN:STANDARD
TZOFFSETFROM:-0700
TZOFFSETTO:-0800
TZNAME:PST
DTSTART:20241103T090000
END:STANDARD
BEGIN:DAYLIGHT
TZOFFSETFROM:-0800
TZOFFSETTO:-0700
TZNAME:PDT
DTSTART:20250309T100000
END:DAYLIGHT
BEGIN:STANDARD
TZOFFSETFROM:-0700
TZOFFSETTO:-0800
TZNAME:PST
DTSTART:20251102T090000
END:STANDARD
BEGIN:DAYLIGHT
TZOFFSETFROM:-0800
TZOFFSETTO:-0700
TZNAME:PDT
DTSTART:20260308T100000
END:DAYLIGHT
BEGIN:STANDARD
TZOFFSETFROM:-0700
TZOFFSETTO:-0800
TZNAME:PST
DTSTART:20261101T090000
END:STANDARD
END:VTIMEZONE
BEGIN:VEVENT
DTSTART;TZID=America/Los_Angeles:20250406T090000
DTEND;TZID=America/Los_Angeles:20250406T100000
DTSTAMP:20260423T075734
CREATED:20240211T211931Z
LAST-MODIFIED:20240312T042602Z
UID:10001547-1743930000-1743933600@stlukeswoodland.org
SUMMARY:Choir Practice
DESCRIPTION:The choir meets Sundays at 9:00 am in the Sanctuary\, prior to the 10 am service. To join or learn more about the our choir\, please contact our music director\, Dean Mora.
URL:https://stlukeswoodland.org/event/choir-practice-2/2025-04-06/
LOCATION:CA
END:VEVENT
BEGIN:VEVENT
DTSTART;TZID=America/Los_Angeles:20250413T090000
DTEND;TZID=America/Los_Angeles:20250413T100000
DTSTAMP:20260423T075734
CREATED:20240211T211931Z
LAST-MODIFIED:20240312T042602Z
UID:10001548-1744534800-1744538400@stlukeswoodland.org
SUMMARY:Choir Practice
DESCRIPTION:The choir meets Sundays at 9:00 am in the Sanctuary\, prior to the 10 am service. To join or learn more about the our choir\, please contact our music director\, Dean Mora.
URL:https://stlukeswoodland.org/event/choir-practice-2/2025-04-13/
LOCATION:CA
END:VEVENT
BEGIN:VEVENT
DTSTART;TZID=America/Los_Angeles:20250420T090000
DTEND;TZID=America/Los_Angeles:20250420T100000
DTSTAMP:20260423T075734
CREATED:20240211T211931Z
LAST-MODIFIED:20240312T042602Z
UID:10001549-1745139600-1745143200@stlukeswoodland.org
SUMMARY:Choir Practice
DESCRIPTION:The choir meets Sundays at 9:00 am in the Sanctuary\, prior to the 10 am service. To join or learn more about the our choir\, please contact our music director\, Dean Mora.
URL:https://stlukeswoodland.org/event/choir-practice-2/2025-04-20/
LOCATION:CA
END:VEVENT
BEGIN:VEVENT
DTSTART;TZID=America/Los_Angeles:20250427T090000
DTEND;TZID=America/Los_Angeles:20250427T100000
DTSTAMP:20260423T075734
CREATED:20240211T211931Z
LAST-MODIFIED:20240312T042602Z
UID:10001550-1745744400-1745748000@stlukeswoodland.org
SUMMARY:Choir Practice
DESCRIPTION:The choir meets Sundays at 9:00 am in the Sanctuary\, prior to the 10 am service. To join or learn more about the our choir\, please contact our music director\, Dean Mora.
URL:https://stlukeswoodland.org/event/choir-practice-2/2025-04-27/
LOCATION:CA
END:VEVENT
END:VCALENDAR