BEGIN:VCALENDAR
VERSION:2.0
PRODID:-//St. Luke’s Episcopal Church - ECPv6.15.17.1//NONSGML v1.0//EN
CALSCALE:GREGORIAN
METHOD:PUBLISH
X-ORIGINAL-URL:https://stlukeswoodland.org
X-WR-CALDESC:Events for St. Luke’s Episcopal Church
REFRESH-INTERVAL;VALUE=DURATION:PT1H
X-Robots-Tag:noindex
X-PUBLISHED-TTL:PT1H
BEGIN:VTIMEZONE
TZID:America/Los_Angeles
BEGIN:DAYLIGHT
TZOFFSETFROM:-0800
TZOFFSETTO:-0700
TZNAME:PDT
DTSTART:20240310T100000
END:DAYLIGHT
BEGIN:STANDARD
TZOFFSETFROM:-0700
TZOFFSETTO:-0800
TZNAME:PST
DTSTART:20241103T090000
END:STANDARD
BEGIN:DAYLIGHT
TZOFFSETFROM:-0800
TZOFFSETTO:-0700
TZNAME:PDT
DTSTART:20250309T100000
END:DAYLIGHT
BEGIN:STANDARD
TZOFFSETFROM:-0700
TZOFFSETTO:-0800
TZNAME:PST
DTSTART:20251102T090000
END:STANDARD
BEGIN:DAYLIGHT
TZOFFSETFROM:-0800
TZOFFSETTO:-0700
TZNAME:PDT
DTSTART:20260308T100000
END:DAYLIGHT
BEGIN:STANDARD
TZOFFSETFROM:-0700
TZOFFSETTO:-0800
TZNAME:PST
DTSTART:20261101T090000
END:STANDARD
END:VTIMEZONE
BEGIN:VEVENT
DTSTART;TZID=America/Los_Angeles:20250202T090000
DTEND;TZID=America/Los_Angeles:20250202T100000
DTSTAMP:20260423T043958
CREATED:20240211T211931Z
LAST-MODIFIED:20240312T042602Z
UID:10001538-1738486800-1738490400@stlukeswoodland.org
SUMMARY:Choir Practice
DESCRIPTION:The choir meets Sundays at 9:00 am in the Sanctuary\, prior to the 10 am service. To join or learn more about the our choir\, please contact our music director\, Dean Mora.
URL:https://stlukeswoodland.org/event/choir-practice-2/2025-02-02/
LOCATION:CA
END:VEVENT
BEGIN:VEVENT
DTSTART;TZID=America/Los_Angeles:20250209T090000
DTEND;TZID=America/Los_Angeles:20250209T100000
DTSTAMP:20260423T043959
CREATED:20240211T211931Z
LAST-MODIFIED:20240312T042602Z
UID:10001539-1739091600-1739095200@stlukeswoodland.org
SUMMARY:Choir Practice
DESCRIPTION:The choir meets Sundays at 9:00 am in the Sanctuary\, prior to the 10 am service. To join or learn more about the our choir\, please contact our music director\, Dean Mora.
URL:https://stlukeswoodland.org/event/choir-practice-2/2025-02-09/
LOCATION:CA
END:VEVENT
BEGIN:VEVENT
DTSTART;TZID=America/Los_Angeles:20250216T090000
DTEND;TZID=America/Los_Angeles:20250216T100000
DTSTAMP:20260423T043959
CREATED:20240211T211931Z
LAST-MODIFIED:20240312T042602Z
UID:10001540-1739696400-1739700000@stlukeswoodland.org
SUMMARY:Choir Practice
DESCRIPTION:The choir meets Sundays at 9:00 am in the Sanctuary\, prior to the 10 am service. To join or learn more about the our choir\, please contact our music director\, Dean Mora.
URL:https://stlukeswoodland.org/event/choir-practice-2/2025-02-16/
LOCATION:CA
END:VEVENT
BEGIN:VEVENT
DTSTART;TZID=America/Los_Angeles:20250223T090000
DTEND;TZID=America/Los_Angeles:20250223T100000
DTSTAMP:20260423T043959
CREATED:20240211T211931Z
LAST-MODIFIED:20240312T042602Z
UID:10001541-1740301200-1740304800@stlukeswoodland.org
SUMMARY:Choir Practice
DESCRIPTION:The choir meets Sundays at 9:00 am in the Sanctuary\, prior to the 10 am service. To join or learn more about the our choir\, please contact our music director\, Dean Mora.
URL:https://stlukeswoodland.org/event/choir-practice-2/2025-02-23/
LOCATION:CA
END:VEVENT
END:VCALENDAR