BEGIN:VCALENDAR
VERSION:2.0
PRODID:-//St. Luke’s Episcopal Church - ECPv6.15.17.1//NONSGML v1.0//EN
CALSCALE:GREGORIAN
METHOD:PUBLISH
X-WR-CALNAME:St. Luke’s Episcopal Church
X-ORIGINAL-URL:https://stlukeswoodland.org
X-WR-CALDESC:Events for St. Luke’s Episcopal Church
REFRESH-INTERVAL;VALUE=DURATION:PT1H
X-Robots-Tag:noindex
X-PUBLISHED-TTL:PT1H
BEGIN:VTIMEZONE
TZID:America/Los_Angeles
BEGIN:DAYLIGHT
TZOFFSETFROM:-0800
TZOFFSETTO:-0700
TZNAME:PDT
DTSTART:20230312T100000
END:DAYLIGHT
BEGIN:STANDARD
TZOFFSETFROM:-0700
TZOFFSETTO:-0800
TZNAME:PST
DTSTART:20231105T090000
END:STANDARD
BEGIN:DAYLIGHT
TZOFFSETFROM:-0800
TZOFFSETTO:-0700
TZNAME:PDT
DTSTART:20240310T100000
END:DAYLIGHT
BEGIN:STANDARD
TZOFFSETFROM:-0700
TZOFFSETTO:-0800
TZNAME:PST
DTSTART:20241103T090000
END:STANDARD
BEGIN:DAYLIGHT
TZOFFSETFROM:-0800
TZOFFSETTO:-0700
TZNAME:PDT
DTSTART:20250309T100000
END:DAYLIGHT
BEGIN:STANDARD
TZOFFSETFROM:-0700
TZOFFSETTO:-0800
TZNAME:PST
DTSTART:20251102T090000
END:STANDARD
END:VTIMEZONE
BEGIN:VEVENT
DTSTART;TZID=America/Los_Angeles:20241006T090000
DTEND;TZID=America/Los_Angeles:20241006T100000
DTSTAMP:20260421T115313
CREATED:20240211T211931Z
LAST-MODIFIED:20240312T042602Z
UID:10001521-1728205200-1728208800@stlukeswoodland.org
SUMMARY:Choir Practice
DESCRIPTION:The choir meets Sundays at 9:00 am in the Sanctuary\, prior to the 10 am service. To join or learn more about the our choir\, please contact our music director\, Dean Mora.
URL:https://stlukeswoodland.org/event/choir-practice-2/2024-10-06/
LOCATION:CA
END:VEVENT
BEGIN:VEVENT
DTSTART;TZID=America/Los_Angeles:20241013T090000
DTEND;TZID=America/Los_Angeles:20241013T100000
DTSTAMP:20260421T115313
CREATED:20240211T211931Z
LAST-MODIFIED:20240312T042602Z
UID:10001522-1728810000-1728813600@stlukeswoodland.org
SUMMARY:Choir Practice
DESCRIPTION:The choir meets Sundays at 9:00 am in the Sanctuary\, prior to the 10 am service. To join or learn more about the our choir\, please contact our music director\, Dean Mora.
URL:https://stlukeswoodland.org/event/choir-practice-2/2024-10-13/
LOCATION:CA
END:VEVENT
BEGIN:VEVENT
DTSTART;VALUE=DATE:20241019
DTEND;VALUE=DATE:20241020
DTSTAMP:20260421T115313
CREATED:20240825T195950Z
LAST-MODIFIED:20240825T195950Z
UID:10002345-1729296000-1729382399@stlukeswoodland.org
SUMMARY:Silent Movie Night
DESCRIPTION:Save the date for our annual fall fundraiser\, a silent movie film festival with our own Dean Mora on the organ!
URL:https://stlukeswoodland.org/event/silent-movie-night/
LOCATION:St Luke’s Episcopal Church\, 515 Second Street\, Woodland\, CA\, 95695\, United States
CATEGORIES:Featured
ATTACH;FMTTYPE=image/png:https://stlukeswoodland.org/wp-content/uploads/2012/09/event_silentmovie.png
END:VEVENT
BEGIN:VEVENT
DTSTART;TZID=America/Los_Angeles:20241020T090000
DTEND;TZID=America/Los_Angeles:20241020T100000
DTSTAMP:20260421T115313
CREATED:20240211T211931Z
LAST-MODIFIED:20240312T042602Z
UID:10001523-1729414800-1729418400@stlukeswoodland.org
SUMMARY:Choir Practice
DESCRIPTION:The choir meets Sundays at 9:00 am in the Sanctuary\, prior to the 10 am service. To join or learn more about the our choir\, please contact our music director\, Dean Mora.
URL:https://stlukeswoodland.org/event/choir-practice-2/2024-10-20/
LOCATION:CA
END:VEVENT
BEGIN:VEVENT
DTSTART;TZID=America/Los_Angeles:20241027T090000
DTEND;TZID=America/Los_Angeles:20241027T100000
DTSTAMP:20260421T115313
CREATED:20240211T211931Z
LAST-MODIFIED:20240312T042602Z
UID:10001524-1730019600-1730023200@stlukeswoodland.org
SUMMARY:Choir Practice
DESCRIPTION:The choir meets Sundays at 9:00 am in the Sanctuary\, prior to the 10 am service. To join or learn more about the our choir\, please contact our music director\, Dean Mora.
URL:https://stlukeswoodland.org/event/choir-practice-2/2024-10-27/
LOCATION:CA
END:VEVENT
END:VCALENDAR