BEGIN:VCALENDAR
VERSION:2.0
PRODID:-//St. Luke’s Episcopal Church - ECPv6.15.17.1//NONSGML v1.0//EN
CALSCALE:GREGORIAN
METHOD:PUBLISH
X-ORIGINAL-URL:https://stlukeswoodland.org
X-WR-CALDESC:Events for St. Luke’s Episcopal Church
REFRESH-INTERVAL;VALUE=DURATION:PT1H
X-Robots-Tag:noindex
X-PUBLISHED-TTL:PT1H
BEGIN:VTIMEZONE
TZID:America/Los_Angeles
BEGIN:DAYLIGHT
TZOFFSETFROM:-0800
TZOFFSETTO:-0700
TZNAME:PDT
DTSTART:20230312T100000
END:DAYLIGHT
BEGIN:STANDARD
TZOFFSETFROM:-0700
TZOFFSETTO:-0800
TZNAME:PST
DTSTART:20231105T090000
END:STANDARD
BEGIN:DAYLIGHT
TZOFFSETFROM:-0800
TZOFFSETTO:-0700
TZNAME:PDT
DTSTART:20240310T100000
END:DAYLIGHT
BEGIN:STANDARD
TZOFFSETFROM:-0700
TZOFFSETTO:-0800
TZNAME:PST
DTSTART:20241103T090000
END:STANDARD
BEGIN:DAYLIGHT
TZOFFSETFROM:-0800
TZOFFSETTO:-0700
TZNAME:PDT
DTSTART:20250309T100000
END:DAYLIGHT
BEGIN:STANDARD
TZOFFSETFROM:-0700
TZOFFSETTO:-0800
TZNAME:PST
DTSTART:20251102T090000
END:STANDARD
END:VTIMEZONE
BEGIN:VEVENT
DTSTART;TZID=America/Los_Angeles:20240505T090000
DTEND;TZID=America/Los_Angeles:20240505T100000
DTSTAMP:20260421T034157
CREATED:20240211T211931Z
LAST-MODIFIED:20240312T042602Z
UID:10001499-1714899600-1714903200@stlukeswoodland.org
SUMMARY:Choir Practice
DESCRIPTION:The choir meets Sundays at 9:00 am in the Sanctuary\, prior to the 10 am service. To join or learn more about the our choir\, please contact our music director\, Dean Mora.
URL:https://stlukeswoodland.org/event/choir-practice-2/2024-05-05/
LOCATION:CA
END:VEVENT
BEGIN:VEVENT
DTSTART;TZID=America/Los_Angeles:20240505T110000
DTEND;TZID=America/Los_Angeles:20240505T130000
DTSTAMP:20260421T034157
CREATED:20240505T214705Z
LAST-MODIFIED:20240505T214705Z
UID:10002103-1714906800-1714914000@stlukeswoodland.org
SUMMARY:Bach's Lunch & Spring Concert
DESCRIPTION:Tickets available through the church office.
URL:https://stlukeswoodland.org/event/bachs-lunch-spring-concert/
LOCATION:St Luke’s Episcopal Church\, 515 Second Street\, Woodland\, CA\, 95695\, United States
CATEGORIES:Featured
ATTACH;FMTTYPE=image/jpeg:https://stlukeswoodland.org/wp-content/uploads/2022/06/ministries_music.jpg
END:VEVENT
BEGIN:VEVENT
DTSTART;TZID=America/Los_Angeles:20240512T090000
DTEND;TZID=America/Los_Angeles:20240512T100000
DTSTAMP:20260421T034157
CREATED:20240211T211931Z
LAST-MODIFIED:20240312T042602Z
UID:10001500-1715504400-1715508000@stlukeswoodland.org
SUMMARY:Choir Practice
DESCRIPTION:The choir meets Sundays at 9:00 am in the Sanctuary\, prior to the 10 am service. To join or learn more about the our choir\, please contact our music director\, Dean Mora.
URL:https://stlukeswoodland.org/event/choir-practice-2/2024-05-12/
LOCATION:CA
END:VEVENT
BEGIN:VEVENT
DTSTART;TZID=America/Los_Angeles:20240519T090000
DTEND;TZID=America/Los_Angeles:20240519T100000
DTSTAMP:20260421T034157
CREATED:20240211T211931Z
LAST-MODIFIED:20240312T042602Z
UID:10001501-1716109200-1716112800@stlukeswoodland.org
SUMMARY:Choir Practice
DESCRIPTION:The choir meets Sundays at 9:00 am in the Sanctuary\, prior to the 10 am service. To join or learn more about the our choir\, please contact our music director\, Dean Mora.
URL:https://stlukeswoodland.org/event/choir-practice-2/2024-05-19/
LOCATION:CA
END:VEVENT
BEGIN:VEVENT
DTSTART;TZID=America/Los_Angeles:20240526T090000
DTEND;TZID=America/Los_Angeles:20240526T100000
DTSTAMP:20260421T034157
CREATED:20240211T211931Z
LAST-MODIFIED:20240312T042602Z
UID:10001502-1716714000-1716717600@stlukeswoodland.org
SUMMARY:Choir Practice
DESCRIPTION:The choir meets Sundays at 9:00 am in the Sanctuary\, prior to the 10 am service. To join or learn more about the our choir\, please contact our music director\, Dean Mora.
URL:https://stlukeswoodland.org/event/choir-practice-2/2024-05-26/
LOCATION:CA
END:VEVENT
END:VCALENDAR