BEGIN:VCALENDAR
VERSION:2.0
PRODID:-//St. Luke’s Episcopal Church - ECPv6.15.17.1//NONSGML v1.0//EN
CALSCALE:GREGORIAN
METHOD:PUBLISH
X-WR-CALNAME:St. Luke’s Episcopal Church
X-ORIGINAL-URL:https://stlukeswoodland.org
X-WR-CALDESC:Events for St. Luke’s Episcopal Church
REFRESH-INTERVAL;VALUE=DURATION:PT1H
X-Robots-Tag:noindex
X-PUBLISHED-TTL:PT1H
BEGIN:VTIMEZONE
TZID:America/Los_Angeles
BEGIN:DAYLIGHT
TZOFFSETFROM:-0800
TZOFFSETTO:-0700
TZNAME:PDT
DTSTART:20220313T100000
END:DAYLIGHT
BEGIN:STANDARD
TZOFFSETFROM:-0700
TZOFFSETTO:-0800
TZNAME:PST
DTSTART:20221106T090000
END:STANDARD
BEGIN:DAYLIGHT
TZOFFSETFROM:-0800
TZOFFSETTO:-0700
TZNAME:PDT
DTSTART:20230312T100000
END:DAYLIGHT
BEGIN:STANDARD
TZOFFSETFROM:-0700
TZOFFSETTO:-0800
TZNAME:PST
DTSTART:20231105T090000
END:STANDARD
BEGIN:DAYLIGHT
TZOFFSETFROM:-0800
TZOFFSETTO:-0700
TZNAME:PDT
DTSTART:20240310T100000
END:DAYLIGHT
BEGIN:STANDARD
TZOFFSETFROM:-0700
TZOFFSETTO:-0800
TZNAME:PST
DTSTART:20241103T090000
END:STANDARD
END:VTIMEZONE
BEGIN:VEVENT
DTSTART;TZID=America/Los_Angeles:20230503T180000
DTEND;TZID=America/Los_Angeles:20230503T190000
DTSTAMP:20260419T092918
CREATED:20230126T050859Z
LAST-MODIFIED:20230126T050859Z
UID:10000393-1683136800-1683140400@stlukeswoodland.org
SUMMARY:Choir Practice
DESCRIPTION:The choir meets Wednesdays at 6:00 pm in the Sanctuary. Vaccination and masks are required. To join or learn more about the our choir\, please contact our music director\, Dean Mora.
URL:https://stlukeswoodland.org/event/choir-practice/2023-05-03/
LOCATION:CA
END:VEVENT
BEGIN:VEVENT
DTSTART;TZID=America/Los_Angeles:20230510T180000
DTEND;TZID=America/Los_Angeles:20230510T190000
DTSTAMP:20260419T092918
CREATED:20230126T050859Z
LAST-MODIFIED:20230126T050859Z
UID:10000394-1683741600-1683745200@stlukeswoodland.org
SUMMARY:Choir Practice
DESCRIPTION:The choir meets Wednesdays at 6:00 pm in the Sanctuary. Vaccination and masks are required. To join or learn more about the our choir\, please contact our music director\, Dean Mora.
URL:https://stlukeswoodland.org/event/choir-practice/2023-05-10/
LOCATION:CA
END:VEVENT
BEGIN:VEVENT
DTSTART;TZID=America/Los_Angeles:20230517T180000
DTEND;TZID=America/Los_Angeles:20230517T190000
DTSTAMP:20260419T092918
CREATED:20230126T050859Z
LAST-MODIFIED:20230126T050859Z
UID:10000395-1684346400-1684350000@stlukeswoodland.org
SUMMARY:Choir Practice
DESCRIPTION:The choir meets Wednesdays at 6:00 pm in the Sanctuary. Vaccination and masks are required. To join or learn more about the our choir\, please contact our music director\, Dean Mora.
URL:https://stlukeswoodland.org/event/choir-practice/2023-05-17/
LOCATION:CA
END:VEVENT
BEGIN:VEVENT
DTSTART;TZID=America/Los_Angeles:20230524T180000
DTEND;TZID=America/Los_Angeles:20230524T190000
DTSTAMP:20260419T092918
CREATED:20230126T050859Z
LAST-MODIFIED:20230126T050859Z
UID:10000396-1684951200-1684954800@stlukeswoodland.org
SUMMARY:Choir Practice
DESCRIPTION:The choir meets Wednesdays at 6:00 pm in the Sanctuary. Vaccination and masks are required. To join or learn more about the our choir\, please contact our music director\, Dean Mora.
URL:https://stlukeswoodland.org/event/choir-practice/2023-05-24/
LOCATION:CA
END:VEVENT
BEGIN:VEVENT
DTSTART;TZID=America/Los_Angeles:20230531T180000
DTEND;TZID=America/Los_Angeles:20230531T190000
DTSTAMP:20260419T092918
CREATED:20230126T050859Z
LAST-MODIFIED:20230126T050859Z
UID:10000397-1685556000-1685559600@stlukeswoodland.org
SUMMARY:Choir Practice
DESCRIPTION:The choir meets Wednesdays at 6:00 pm in the Sanctuary. Vaccination and masks are required. To join or learn more about the our choir\, please contact our music director\, Dean Mora.
URL:https://stlukeswoodland.org/event/choir-practice/2023-05-31/
LOCATION:CA
END:VEVENT
END:VCALENDAR