BEGIN:VCALENDAR
VERSION:2.0
PRODID:-//St. Luke’s Episcopal Church - ECPv6.15.17.1//NONSGML v1.0//EN
CALSCALE:GREGORIAN
METHOD:PUBLISH
X-ORIGINAL-URL:https://stlukeswoodland.org
X-WR-CALDESC:Events for St. Luke’s Episcopal Church
REFRESH-INTERVAL;VALUE=DURATION:PT1H
X-Robots-Tag:noindex
X-PUBLISHED-TTL:PT1H
BEGIN:VTIMEZONE
TZID:America/Los_Angeles
BEGIN:DAYLIGHT
TZOFFSETFROM:-0800
TZOFFSETTO:-0700
TZNAME:PDT
DTSTART:20220313T100000
END:DAYLIGHT
BEGIN:STANDARD
TZOFFSETFROM:-0700
TZOFFSETTO:-0800
TZNAME:PST
DTSTART:20221106T090000
END:STANDARD
BEGIN:DAYLIGHT
TZOFFSETFROM:-0800
TZOFFSETTO:-0700
TZNAME:PDT
DTSTART:20230312T100000
END:DAYLIGHT
BEGIN:STANDARD
TZOFFSETFROM:-0700
TZOFFSETTO:-0800
TZNAME:PST
DTSTART:20231105T090000
END:STANDARD
BEGIN:DAYLIGHT
TZOFFSETFROM:-0800
TZOFFSETTO:-0700
TZNAME:PDT
DTSTART:20240310T100000
END:DAYLIGHT
BEGIN:STANDARD
TZOFFSETFROM:-0700
TZOFFSETTO:-0800
TZNAME:PST
DTSTART:20241103T090000
END:STANDARD
END:VTIMEZONE
BEGIN:VEVENT
DTSTART;TZID=America/Los_Angeles:20231021T140000
DTEND;TZID=America/Los_Angeles:20231021T160000
DTSTAMP:20260421T031805
CREATED:20230917T192914Z
LAST-MODIFIED:20230917T220040Z
UID:10001189-1697896800-1697904000@stlukeswoodland.org
SUMMARY:Scary Silent Movie
DESCRIPTION:Our own Dean Mora will accompany a silent movie on the organ. Tickets will be available through the church office for $20 each. There will be an intermission in the Guild Hall where we’ll have spooky snacks.
URL:https://stlukeswoodland.org/event/scary-silent-movie/
LOCATION:St Luke’s Episcopal Church\, 515 Second Street\, Woodland\, CA\, 95695\, United States
CATEGORIES:Featured
ATTACH;FMTTYPE=image/png:https://stlukeswoodland.org/wp-content/uploads/2012/09/event_silentmovie.png
END:VEVENT
END:VCALENDAR